BEGIN:VCALENDAR
VERSION:2.0
PRODID:-//Geelong West Kindergarten - ECPv4.9.14//NONSGML v1.0//EN
CALSCALE:GREGORIAN
METHOD:PUBLISH
X-WR-CALNAME:Geelong West Kindergarten
X-ORIGINAL-URL:https://geelongwestkindergarten.org.au
X-WR-CALDESC:Events for Geelong West Kindergarten
BEGIN:VTIMEZONE
TZID:UTC
BEGIN:STANDARD
TZOFFSETFROM:+0000
TZOFFSETTO:+0000
TZNAME:UTC
DTSTART:20180101T000000
END:STANDARD
END:VTIMEZONE
BEGIN:VEVENT
DTSTART;TZID=UTC:20180825T090000
DTEND;TZID=UTC:20180825T110000
DTSTAMP:20200228T215646
CREATED:20180219T025947Z
LAST-MODIFIED:20180219T025947Z
UID:648-1535187600-1535194800@geelongwestkindergarten.org.au
SUMMARY:Term 3 Working Bee
DESCRIPTION:
URL:https://geelongwestkindergarten.org.au/event/term-3-working-bee/
LOCATION:Geelong West Kindergarten
END:VEVENT
END:VCALENDAR