BEGIN:VCALENDAR
VERSION:2.0
PRODID:-//Geelong West Kindergarten - ECPv4.9.14//NONSGML v1.0//EN
CALSCALE:GREGORIAN
METHOD:PUBLISH
X-WR-CALNAME:Geelong West Kindergarten
X-ORIGINAL-URL:https://geelongwestkindergarten.org.au
X-WR-CALDESC:Events for Geelong West Kindergarten
BEGIN:VTIMEZONE
TZID:UTC
BEGIN:STANDARD
TZOFFSETFROM:+0000
TZOFFSETTO:+0000
TZNAME:UTC
DTSTART:20190101T000000
END:STANDARD
END:VTIMEZONE
BEGIN:VEVENT
DTSTART;VALUE=DATE:20190715
DTEND;VALUE=DATE:20190716
DTSTAMP:20200228T215810
CREATED:20190604T004642Z
LAST-MODIFIED:20190604T004642Z
UID:853-1563148800-1563235199@geelongwestkindergarten.org.au
SUMMARY:Term 3 starts
DESCRIPTION:
URL:https://geelongwestkindergarten.org.au/event/term-3-starts/
END:VEVENT
END:VCALENDAR